BEGIN:VCALENDAR
VERSION:2.0
PRODID:-//INNOVER by Claudia Nover - ECPv6.15.20//NONSGML v1.0//EN
CALSCALE:GREGORIAN
METHOD:PUBLISH
X-WR-CALNAME:INNOVER by Claudia Nover
X-ORIGINAL-URL:https://claudianover.com
X-WR-CALDESC:Veranstaltungen für INNOVER by Claudia Nover
REFRESH-INTERVAL;VALUE=DURATION:PT1H
X-Robots-Tag:noindex
X-PUBLISHED-TTL:PT1H
BEGIN:VTIMEZONE
TZID:Europe/Berlin
BEGIN:DAYLIGHT
TZOFFSETFROM:+0100
TZOFFSETTO:+0200
TZNAME:CEST
DTSTART:20250330T010000
END:DAYLIGHT
BEGIN:STANDARD
TZOFFSETFROM:+0200
TZOFFSETTO:+0100
TZNAME:CET
DTSTART:20251026T010000
END:STANDARD
BEGIN:DAYLIGHT
TZOFFSETFROM:+0100
TZOFFSETTO:+0200
TZNAME:CEST
DTSTART:20260329T010000
END:DAYLIGHT
BEGIN:STANDARD
TZOFFSETFROM:+0200
TZOFFSETTO:+0100
TZNAME:CET
DTSTART:20261025T010000
END:STANDARD
BEGIN:DAYLIGHT
TZOFFSETFROM:+0100
TZOFFSETTO:+0200
TZNAME:CEST
DTSTART:20270328T010000
END:DAYLIGHT
BEGIN:STANDARD
TZOFFSETFROM:+0200
TZOFFSETTO:+0100
TZNAME:CET
DTSTART:20271031T010000
END:STANDARD
END:VTIMEZONE
BEGIN:VEVENT
DTSTART;TZID=Europe/Berlin:20260507T183000
DTEND;TZID=Europe/Berlin:20260507T200000
DTSTAMP:20260422T202642
CREATED:20260421T112218Z
LAST-MODIFIED:20260421T112224Z
UID:253832-1778178600-1778184000@claudianover.com
SUMMARY:Alchemie des Neubeginns – Salz\, Aroma & Trance im Mai
DESCRIPTION:Alchemie des Neubeginns – Salz\, Aroma & Trance \nDer Frühling beginnt nicht nur in der Natur – sondern auch in dir.\nWenn die Tage heller werden und die Energie des Neubeginns spürbar wird\, öffnet sich eine besondere Zeit im Jahreskreis:\nEine Einladung\, Altes loszulassen und deinem Inneren Raum für neue Klarheit zu geben. \nIn dieser besonderen Veranstaltung verbinden sich die Kräfte der Elemente zu einer tiefen Erfahrung der Regeneration. \nDie Alchemie von Salz und ätherischen Ölen wirkt dabei auf mehreren Ebenen:\n🌿 Salz steht seit Jahrhunderten für Reinigung\, Erdung und Stabilität.\n🌿 Ätherische Öle öffnen über ihre Duftmoleküle den Zugang zu Emotionen\, Erinnerungen und innerer Balance.\n🌿 In einer sanften Trancereise darf dein Nervensystem vollständig entspannen und sich neu ordnen.\nWährend du es dir im Salzzimmer auf 2\,5 Tonnen Meersalz bequem machst\, entsteht ein Raum\, in dem sich dein System neu ausrichten kann. \n✨ Stress darf sich lösen\n✨ dein Nervensystem findet zurück in Regulation\n✨ innere Klarheit und neue Energie dürfen entstehen \nGerade zum Beginn des Frühlings unterstützt dich diese Erfahrung dabei\, bewusst in eine neue Phase einzutreten – geerdet\, klar und verbunden mit deiner inneren Kraft. \nEin Abend für\n 🌿 tiefe Entspannung\n 🌿 Erdung durch das Element Salz\n 🌿 die harmonisierende Kraft ätherischer Öle\n 🌿 und eine Trancereise in dein persönliches Frühlingserwachen. \n💫 Erlaube dir diesen Neustart. \nHinweis / Haftungsausschluss \nDie Teilnahme an der Trance- und Entspannungseinheit erfolgt auf eigene Verantwortung und ersetzt keine medizinische oder therapeutische Behandlung. \nDie Teilnahme wird nicht empfohlen für schwangere Frauen sowie für Personen mit akuten Erkrankungen\, schweren psychischen Belastungen\, Epilepsie oder anderen gesundheitlichen Risikofaktoren. \nIm Zweifelsfall kläre bitte vorab mit deinem Arzt oder Therapeuten\, ob eine Teilnahme für dich geeignet ist. \nMit der Anmeldung bestätigst du\, dass du eigenverantwortlich an der Veranstaltung teilnimmst und gesundheitlich dazu in der Lage bist.\n			\n				Jetzt buchen
URL:https://claudianover.com/veranstaltung/alchemie-des-neubeginns-salz-aroma-trance-im-mai/
LOCATION:Salz am See\, Rathausweg 10\, Bad Wiessee\, 83707\, Germany
CATEGORIES:Balance
ATTACH;FMTTYPE=image/webp:https://claudianover.com/wp-content/uploads/2026/04/Bild-Veranstaltungen-25.webp
ORGANIZER;CN="Claudia Nover":MAILTO:info@claudianover.com
END:VEVENT
END:VCALENDAR