BEGIN:VCALENDAR
VERSION:2.0
PRODID:-//INNOVER by Claudia Nover - ECPv6.15.20//NONSGML v1.0//EN
CALSCALE:GREGORIAN
METHOD:PUBLISH
X-ORIGINAL-URL:https://claudianover.com
X-WR-CALDESC:Veranstaltungen für INNOVER by Claudia Nover
REFRESH-INTERVAL;VALUE=DURATION:PT1H
X-Robots-Tag:noindex
X-PUBLISHED-TTL:PT1H
BEGIN:VTIMEZONE
TZID:Europe/Berlin
BEGIN:DAYLIGHT
TZOFFSETFROM:+0100
TZOFFSETTO:+0200
TZNAME:CEST
DTSTART:20230326T010000
END:DAYLIGHT
BEGIN:STANDARD
TZOFFSETFROM:+0200
TZOFFSETTO:+0100
TZNAME:CET
DTSTART:20231029T010000
END:STANDARD
BEGIN:DAYLIGHT
TZOFFSETFROM:+0100
TZOFFSETTO:+0200
TZNAME:CEST
DTSTART:20240331T010000
END:DAYLIGHT
BEGIN:STANDARD
TZOFFSETFROM:+0200
TZOFFSETTO:+0100
TZNAME:CET
DTSTART:20241027T010000
END:STANDARD
BEGIN:DAYLIGHT
TZOFFSETFROM:+0100
TZOFFSETTO:+0200
TZNAME:CEST
DTSTART:20250330T010000
END:DAYLIGHT
BEGIN:STANDARD
TZOFFSETFROM:+0200
TZOFFSETTO:+0100
TZNAME:CET
DTSTART:20251026T010000
END:STANDARD
END:VTIMEZONE
BEGIN:VEVENT
DTSTART;VALUE=DATE:20240504
DTEND;VALUE=DATE:20240505
DTSTAMP:20260426T032337
CREATED:20240212T070636Z
LAST-MODIFIED:20240326T212720Z
UID:250982-1714780800-1714867199@claudianover.com
SUMMARY:WERTe-Tag am Tegernsee: Mit Werten führen.
DESCRIPTION:Werte im Alltag und im beruflichen Kontext erlebbar zu machen\, das ist das Ziel dieses Workshops. \nWerte müssen gelebt und verkörpert werden\, damit Authentizität und Glaubwürdigkeit erhalten bleiben\, doch leichter gesagt als getan. In diesem WERTe Workshop erhältst du gut umsetzbare Tools an die Hand\, die deine innere Haltung festigt. Deine innere Haltung stärkt dein Selbstbild und ermöglicht es dir\, als Vorbild zu agieren.\nMiteinander vernetzen und zusammen den eigenen Garten Eden kultivieren\, das ist das Motto für den WERTe-Tag am Tegernsee!\nWir werden in einer exklusiven Gruppe zusammen kommen. Eingeladen sind Menschen die aktiv Zukunft gestalten wollen und ihre Haltung klarer zum Ausdruck bringen wollen. Der Workshop wird von Claudia Nover und Katrin Renner durchgeführt\, ihre Wege haben sich in einer der weltweit größten Wirtschaftsprüfungsgesellschaften gekreuzt. Claudia ist Unternehmerin und als Personal- und Business Coach\, Mediatorin und Astrobiografin tätig. Katrin ist Wirtschaftsprüferin\, Netzwerkerin und ChakraTherapeutin. Nach Anmeldung erhalten die Teilnehmer eine Teilnahmebestätigung\, sowie eine Agenda. Getränke und ein kleines Lunch sind im Preis inkludiert. \n  \nIch bin dabei!
URL:https://claudianover.com/veranstaltung/werte-tag-am-tegernsee-04-05-2024/
LOCATION:Rottach-Egern\, Rottach-Egern\, Bayern\, Deutschland
CATEGORIES:Workshop
ATTACH;FMTTYPE=image/jpeg:https://claudianover.com/wp-content/uploads/2024/02/Bild-Veranstaltungen.jpg
ORGANIZER;CN="Claudia Nover":MAILTO:info@claudianover.com
END:VEVENT
END:VCALENDAR