BEGIN:VCALENDAR
VERSION:2.0
PRODID:-//INNOVER by Claudia Nover - ECPv6.15.20//NONSGML v1.0//EN
CALSCALE:GREGORIAN
METHOD:PUBLISH
X-WR-CALNAME:INNOVER by Claudia Nover
X-ORIGINAL-URL:https://claudianover.com
X-WR-CALDESC:Veranstaltungen für INNOVER by Claudia Nover
REFRESH-INTERVAL;VALUE=DURATION:PT1H
X-Robots-Tag:noindex
X-PUBLISHED-TTL:PT1H
BEGIN:VTIMEZONE
TZID:Europe/Berlin
BEGIN:DAYLIGHT
TZOFFSETFROM:+0100
TZOFFSETTO:+0200
TZNAME:CEST
DTSTART:20240331T010000
END:DAYLIGHT
BEGIN:STANDARD
TZOFFSETFROM:+0200
TZOFFSETTO:+0100
TZNAME:CET
DTSTART:20241027T010000
END:STANDARD
BEGIN:DAYLIGHT
TZOFFSETFROM:+0100
TZOFFSETTO:+0200
TZNAME:CEST
DTSTART:20250330T010000
END:DAYLIGHT
BEGIN:STANDARD
TZOFFSETFROM:+0200
TZOFFSETTO:+0100
TZNAME:CET
DTSTART:20251026T010000
END:STANDARD
BEGIN:DAYLIGHT
TZOFFSETFROM:+0100
TZOFFSETTO:+0200
TZNAME:CEST
DTSTART:20260329T010000
END:DAYLIGHT
BEGIN:STANDARD
TZOFFSETFROM:+0200
TZOFFSETTO:+0100
TZNAME:CET
DTSTART:20261025T010000
END:STANDARD
END:VTIMEZONE
BEGIN:VEVENT
DTSTART;TZID=Europe/Berlin:20250405T093000
DTEND;TZID=Europe/Berlin:20250405T113000
DTSTAMP:20260424T141949
CREATED:20250304T141933Z
LAST-MODIFIED:20250304T141933Z
UID:252717-1743845400-1743852600@claudianover.com
SUMMARY:Im Rausch der Farben - Luminous Self
DESCRIPTION:Im Rausch der Farben – Luminous Self 💫 strahlende Selbstsicherheit & Wertebewusstsein\nWillkommen in einem hochenergetischen Raum\, der dich transformiert! Claudia Nover öffnet mit der Lichtsprache und energetischer Transformationsarbeit ein Feld\, in dem du: \n✨ Inneren Frieden findest – Löse innere Blockaden und bringe dein Herz & deinen Geist in Einklang.💫 Selbstheilung aktivierst – Dein Körper und deine Seele wissen\, wie Heilung geschieht – lerne\, diesen Prozess bewusst zu unterstützen.🧘‍♀️ Emotionalen & mentalen Ballast loslässt – Befreie dich von alten Mustern und Schwere\, die dich zurückhalten.💰 Wohlstand & neue Möglichkeiten in dein Leben ziehst – Schwinge in der Frequenz der Fülle und lerne\, wie du sie in dein Leben integrierst. \nWas erwartet dich?\n🔹 bei Luminous Self aktivieren wir dein Lichtfeld für strahlende Selbstsicherheit & Wertebewusstsein.🔹 Lichtsprache & Frequenzarbeit – Erlebe die kraftvollen Energien\, die tief in dein Unterbewusstsein wirken.🔹 Individuelle Aktivierungen & Übungen – Praktische Methoden für deinen Alltag.🔹 Trance – bei jeder Session wird es eine Trancereise geben\, in der dein Unterbewusstsein die neuen Informationen der Frequenzen erhält. \n🌈 Tauche ein in den Rausch der Farben und erlebe\, wie deine Energie sich hebt! ✨ \n			\n				Jetzt buchen
URL:https://claudianover.com/veranstaltung/luminous-self/
LOCATION:Online per Zoom
CATEGORIES:Balance,Workshop
ATTACH;FMTTYPE=image/jpeg:https://claudianover.com/wp-content/uploads/2025/03/4-1.jpg
ORGANIZER;CN="Claudia Nover":MAILTO:info@claudianover.com
END:VEVENT
BEGIN:VEVENT
DTSTART;TZID=Europe/Berlin:20250412T093000
DTEND;TZID=Europe/Berlin:20250412T113000
DTSTAMP:20260424T141949
CREATED:20250304T142857Z
LAST-MODIFIED:20250304T142857Z
UID:252723-1744450200-1744457400@claudianover.com
SUMMARY:Im Rausch der Farben - Jade Essenz
DESCRIPTION:Im Rausch der Farben – Jade Essenz 💫 Selbstliebe\, Frieden und Verbundenheit\nWillkommen in einem hochenergetischen Raum\, der dich transformiert! Claudia Nover öffnet mit der Lichtsprache und energetischer Transformationsarbeit ein Feld\, in dem du: \n✨ Inneren Frieden findest – Löse innere Blockaden und bringe dein Herz & deinen Geist in Einklang.💫 Selbstheilung aktivierst – Dein Körper und deine Seele wissen\, wie Heilung geschieht – lerne\, diesen Prozess bewusst zu unterstützen.🧘‍♀️ Emotionalen & mentalen Ballast loslässt – Befreie dich von alten Mustern und Schwere\, die dich zurückhalten.💰 Wohlstand & neue Möglichkeiten in dein Leben ziehst – Schwinge in der Frequenz der Fülle und lerne\, wie du sie in dein Leben integrierst. \nWas erwartet dich?\n🔹 bei Jade Essenz aktivieren wir dein Lichtfeld für Selbstliebe\, Frieden und Verbundenheit.🔹 Lichtsprache & Frequenzarbeit – Erlebe die kraftvollen Energien\, die tief in dein Unterbewusstsein wirken.🔹 Individuelle Aktivierungen & Übungen – Praktische Methoden für deinen Alltag.🔹 Trance – bei jeder Session wird es eine Trancereise geben\, in der dein Unterbewusstsein die neuen Informationen der Frequenzen erhält. \n🌈 Tauche ein in den Rausch der Farben und erlebe\, wie deine Energie sich hebt! ✨ \n			\n				Jetzt buchen
URL:https://claudianover.com/veranstaltung/jade-essenz/
LOCATION:Online per Zoom
CATEGORIES:Balance,Workshop
ATTACH;FMTTYPE=image/jpeg:https://claudianover.com/wp-content/uploads/2025/03/5-1.jpg
ORGANIZER;CN="Claudia Nover":MAILTO:info@claudianover.com
END:VEVENT
END:VCALENDAR