BEGIN:VCALENDAR
VERSION:2.0
PRODID:-//INNOVER by Claudia Nover - ECPv6.15.20//NONSGML v1.0//EN
CALSCALE:GREGORIAN
METHOD:PUBLISH
X-ORIGINAL-URL:https://claudianover.com
X-WR-CALDESC:Veranstaltungen für INNOVER by Claudia Nover
REFRESH-INTERVAL;VALUE=DURATION:PT1H
X-Robots-Tag:noindex
X-PUBLISHED-TTL:PT1H
BEGIN:VTIMEZONE
TZID:Europe/Berlin
BEGIN:DAYLIGHT
TZOFFSETFROM:+0100
TZOFFSETTO:+0200
TZNAME:CEST
DTSTART:20240331T010000
END:DAYLIGHT
BEGIN:STANDARD
TZOFFSETFROM:+0200
TZOFFSETTO:+0100
TZNAME:CET
DTSTART:20241027T010000
END:STANDARD
BEGIN:DAYLIGHT
TZOFFSETFROM:+0100
TZOFFSETTO:+0200
TZNAME:CEST
DTSTART:20250330T010000
END:DAYLIGHT
BEGIN:STANDARD
TZOFFSETFROM:+0200
TZOFFSETTO:+0100
TZNAME:CET
DTSTART:20251026T010000
END:STANDARD
BEGIN:DAYLIGHT
TZOFFSETFROM:+0100
TZOFFSETTO:+0200
TZNAME:CEST
DTSTART:20260329T010000
END:DAYLIGHT
BEGIN:STANDARD
TZOFFSETFROM:+0200
TZOFFSETTO:+0100
TZNAME:CET
DTSTART:20261025T010000
END:STANDARD
END:VTIMEZONE
BEGIN:VEVENT
DTSTART;TZID=Europe/Berlin:20250308T093000
DTEND;TZID=Europe/Berlin:20250308T113000
DTSTAMP:20260424T154929
CREATED:20250303T165455Z
LAST-MODIFIED:20250303T172104Z
UID:252659-1741426200-1741433400@claudianover.com
SUMMARY:Im Rausch der Farben - Red Reset
DESCRIPTION:Im Rausch der Farben – Dein Schlüssel zu Fülle\, Liebe & innerem Frieden! 🌟\nWillkommen in einem hochenergetischen Raum\, der dich transformiert! Claudia Nover öffnet mit der Lichtsprache und energetischer Transformationsarbeit ein Feld\, in dem du: \n✨ Inneren Frieden findest – Löse innere Blockaden und bringe dein Herz & deinen Geist in Einklang.💫 Selbstheilung aktivierst – Dein Körper und deine Seele wissen\, wie Heilung geschieht – lerne\, diesen Prozess bewusst zu unterstützen.🧘‍♀️ Emotionalen & mentalen Ballast loslässt – Befreie dich von alten Mustern und Schwere\, die dich zurückhalten.💰 Wohlstand & neue Möglichkeiten in dein Leben ziehst – Schwinge in der Frequenz der Fülle und lerne\, wie du sie in dein Leben integrierst. \nWas erwartet dich?\n🔹 7-teiliger Workshop – Jede Session öffnet ein neues energetisches Portal für Transformation.🔹 Lichtsprache & Frequenzarbeit – Erlebe die kraftvollen Energien\, die tief in dein Unterbewusstsein wirken.🔹 Individuelle Aktivierungen & Übungen – Praktische Methoden für deinen Alltag.🔹 Trance – bei jeder Session wird es eine Trancereise geben\, in der dein Unterbewusstsein die neuen Informationen der Frequenzen erhält. \n🌈 Tauche ein in den Rausch der Farben und erlebe\, wie deine Energie sich hebt! ✨ \n📅 Jetzt Platz sichern & Transformation starten! 💖 \nDu kannst die Collection für insgesamt 7 Sessions zu einem Vorzugspreis von € 351 (inkl. Mwst.) wählen. Dieses Ticket umfasst alle Termine (8.März\, 15. März\, 5. April\, 12. April\, 26. April\, 3. Mai\, 17. Mai). \nAlternativ kannst du jede Session separat für € 66 (inkl. Mwst.) wählen. \nAm 8. März starten wir mit RED RESET – für neue Stabilität in dir. \n			\n				Jetzt buchen
URL:https://claudianover.com/veranstaltung/redreset/
LOCATION:Online per Zoom
CATEGORIES:Balance,Workshop
ATTACH;FMTTYPE=image/jpeg:https://claudianover.com/wp-content/uploads/2025/03/2.jpg
ORGANIZER;CN="Claudia Nover":MAILTO:info@claudianover.com
END:VEVENT
BEGIN:VEVENT
DTSTART;TZID=Europe/Berlin:20250308T093000
DTEND;TZID=Europe/Berlin:20250308T113000
DTSTAMP:20260424T154929
CREATED:20250303T181344Z
LAST-MODIFIED:20250303T181357Z
UID:252696-1741426200-1741433400@claudianover.com
SUMMARY:Im Rausch der Farben - Collection - 7 hochenergetische Sessions für dich!
DESCRIPTION:Im Rausch der Farben – Dein Schlüssel zu Fülle\, Liebe & innerem Frieden! 🌟\nWillkommen in einem hochenergetischen Raum\, der dich transformiert! Claudia Nover öffnet mit der Lichtsprache und energetischer Transformationsarbeit ein Feld\, in dem du: \n✨ Inneren Frieden findest – Löse innere Blockaden und bringe dein Herz & deinen Geist in Einklang.💫 Selbstheilung aktivierst – Dein Körper und deine Seele wissen\, wie Heilung geschieht – lerne\, diesen Prozess bewusst zu unterstützen.🧘‍♀️ Emotionalen & mentalen Ballast loslässt – Befreie dich von alten Mustern und Schwere\, die dich zurückhalten.💰 Wohlstand & neue Möglichkeiten in dein Leben ziehst – Schwinge in der Frequenz der Fülle und lerne\, wie du sie in dein Leben integrierst. \nWas erwartet dich?\n🔹 7-teiliger Workshop – Jede Session öffnet ein neues energetisches Portal für Transformation.🔹 Lichtsprache & Frequenzarbeit – Erlebe die kraftvollen Energien\, die tief in dein Unterbewusstsein wirken.🔹 Individuelle Aktivierungen & Übungen – Praktische Methoden für deinen Alltag.🔹 Trance – bei jeder Session wird es eine Trancereise geben\, in der dein Unterbewusstsein die neuen Informationen der Frequenzen erhält. \n🌈 Tauche ein in den Rausch der Farben und erlebe\, wie deine Energie sich hebt! ✨ \nDu kannst die Collection für insgesamt 7 Sessions zu einem Vorzugspreis von € 351 (inkl. Mwst.) wählen. Dieses Ticket umfasst alle Termine (8.März\, 15. März\, 5. April\, 12. April\, 26. April\, 3. Mai\, 17. Mai). \n			\n				Jetzt buchen
URL:https://claudianover.com/veranstaltung/collection/
LOCATION:Online per Zoom
CATEGORIES:Balance,Workshop
ATTACH;FMTTYPE=image/jpeg:https://claudianover.com/wp-content/uploads/2025/03/1.jpg
ORGANIZER;CN="Claudia Nover":MAILTO:info@claudianover.com
END:VEVENT
BEGIN:VEVENT
DTSTART;TZID=Europe/Berlin:20250315T093000
DTEND;TZID=Europe/Berlin:20250315T113000
DTSTAMP:20260424T154929
CREATED:20250304T121609Z
LAST-MODIFIED:20250304T121620Z
UID:252706-1742031000-1742038200@claudianover.com
SUMMARY:Im Rausch der Farben - Orange Sparks
DESCRIPTION:Im Rausch der Farben – Orange Sparks 💫 pure Kreativität und Geldmagie\nWillkommen in einem hochenergetischen Raum\, der dich transformiert! Claudia Nover öffnet mit der Lichtsprache und energetischer Transformationsarbeit ein Feld\, in dem du: \n✨ Inneren Frieden findest – Löse innere Blockaden und bringe dein Herz & deinen Geist in Einklang.💫 Selbstheilung aktivierst – Dein Körper und deine Seele wissen\, wie Heilung geschieht – lerne\, diesen Prozess bewusst zu unterstützen.🧘‍♀️ Emotionalen & mentalen Ballast loslässt – Befreie dich von alten Mustern und Schwere\, die dich zurückhalten.💰 Wohlstand & neue Möglichkeiten in dein Leben ziehst – Schwinge in der Frequenz der Fülle und lerne\, wie du sie in dein Leben integrierst. \nWas erwartet dich?\n🔹 bei Orange Sparks aktivieren wir dein Lichtfeld für pure Kreativität und entfesseln die Geldmagie.🔹 Lichtsprache & Frequenzarbeit – Erlebe die kraftvollen Energien\, die tief in dein Unterbewusstsein wirken.🔹 Individuelle Aktivierungen & Übungen – Praktische Methoden für deinen Alltag.🔹 Trance – bei jeder Session wird es eine Trancereise geben\, in der dein Unterbewusstsein die neuen Informationen der Frequenzen erhält. \n🌈 Tauche ein in den Rausch der Farben und erlebe\, wie deine Energie sich hebt! ✨ \n			\n				Jetzt buchen
URL:https://claudianover.com/veranstaltung/orange-sparks/
LOCATION:Online per Zoom
CATEGORIES:Balance,Workshop
ATTACH;FMTTYPE=image/jpeg:https://claudianover.com/wp-content/uploads/2025/03/3-1.jpg
ORGANIZER;CN="Claudia Nover":MAILTO:info@claudianover.com
END:VEVENT
END:VCALENDAR